BEGIN:VCALENDAR
VERSION:2.0
PRODID:-//eventon.com NONSGML v1.0//EN
CALSCALE:GREGORIAN
METHOD:PUBLISH
BEGIN:VEVENT
UID:69e4d3ad83fb0
DTSTAMP:20260419T130757Z
DTSTART:20241114T070000Z
DTEND:20241114T105000Z
LOCATION:Reiss-Engelhorn-Museum\,  Florian-Waldeck-Saal Museum Zeughaus\,  C5\,  68159 Mannheim
SUMMARY:MANNHEIM | Amaryllis Quartett
DESCRIPTION:MANNHEIM | Amaryllis Quartett\nhttps://gustav-frielinghaus.de/e
 vents/mannheim-amaryllis-quartett-2/
URL:https://gustav-frielinghaus.de/events/mannheim-amaryllis-quartett-2/
END:VEVENT
END:VCALENDAR